BEGIN:VCALENDAR
PRODID:-//Ben Fortuna//iCal4j 1.0//EN
VERSION:2.0
CALSCALE:GREGORIAN
BEGIN:VTIMEZONE
TZID:Europe/Berlin
LAST-MODIFIED:20201010T011803Z
TZURL:http://tzurl.org/zoneinfo/Europe/Berlin
X-LIC-LOCATION:Europe/Berlin
X-PROLEPTIC-TZNAME:LMT
BEGIN:STANDARD
TZNAME:CET
TZOFFSETFROM:+005328
TZOFFSETTO:+0100
DTSTART:18930401T000000
END:STANDARD
BEGIN:DAYLIGHT
TZNAME:CEST
TZOFFSETFROM:+0100
TZOFFSETTO:+0200
DTSTART:19160430T230000
RDATE:19400401T020000
RDATE:19430329T020000
RDATE:19460414T020000
RDATE:19470406T030000
RDATE:19480418T020000
RDATE:19490410T020000
RDATE:19800406T020000
END:DAYLIGHT
BEGIN:STANDARD
TZNAME:CET
TZOFFSETFROM:+0200
TZOFFSETTO:+0100
DTSTART:19161001T010000
RDATE:19421102T030000
RDATE:19431004T030000
RDATE:19441002T030000
RDATE:19451118T030000
RDATE:19461007T030000
END:STANDARD
BEGIN:DAYLIGHT
TZNAME:CEST
TZOFFSETFROM:+0100
TZOFFSETTO:+0200
DTSTART:19170416T020000
RRULE:FREQ=YEARLY;UNTIL=19180415T010000Z;BYMONTH=4;BYDAY=3MO
END:DAYLIGHT
BEGIN:STANDARD
TZNAME:CET
TZOFFSETFROM:+0200
TZOFFSETTO:+0100
DTSTART:19170917T030000
RRULE:FREQ=YEARLY;UNTIL=19180916T010000Z;BYMONTH=9;BYDAY=3MO
END:STANDARD
BEGIN:DAYLIGHT
TZNAME:CEST
TZOFFSETFROM:+0100
TZOFFSETTO:+0200
DTSTART:19440403T020000
RRULE:FREQ=YEARLY;UNTIL=19450402T010000Z;BYMONTH=4;BYDAY=1MO
END:DAYLIGHT
BEGIN:DAYLIGHT
TZNAME:CEMT
TZOFFSETFROM:+0200
TZOFFSETTO:+0300
DTSTART:19450524T020000
RDATE:19470511T030000
END:DAYLIGHT
BEGIN:DAYLIGHT
TZNAME:CEST
TZOFFSETFROM:+0300
TZOFFSETTO:+0200
DTSTART:19450924T030000
RDATE:19470629T030000
END:DAYLIGHT
BEGIN:STANDARD
TZNAME:CET
TZOFFSETFROM:+0100
TZOFFSETTO:+0100
DTSTART:19460101T000000
RDATE:19800101T000000
END:STANDARD
BEGIN:STANDARD
TZNAME:CET
TZOFFSETFROM:+0200
TZOFFSETTO:+0100
DTSTART:19471005T030000
RRULE:FREQ=YEARLY;UNTIL=19491002T010000Z;BYMONTH=10;BYDAY=1SU
END:STANDARD
BEGIN:STANDARD
TZNAME:CET
TZOFFSETFROM:+0200
TZOFFSETTO:+0100
DTSTART:19800928T030000
RRULE:FREQ=YEARLY;UNTIL=19950924T010000Z;BYMONTH=9;BYDAY=-1SU
END:STANDARD
BEGIN:DAYLIGHT
TZNAME:CEST
TZOFFSETFROM:+0100
TZOFFSETTO:+0200
DTSTART:19810329T020000
RRULE:FREQ=YEARLY;BYMONTH=3;BYDAY=-1SU
END:DAYLIGHT
BEGIN:STANDARD
TZNAME:CET
TZOFFSETFROM:+0200
TZOFFSETTO:+0100
DTSTART:19961027T030000
RRULE:FREQ=YEARLY;BYMONTH=10;BYDAY=-1SU
END:STANDARD
END:VTIMEZONE
BEGIN:VEVENT
DTSTAMP:20260424T230958Z
DTSTART;TZID=Europe/Berlin:20230624T110000
DTEND;TZID=Europe/Berlin:20230624T170000
SUMMARY:Sportolympiade
CREATED:20230609T072604Z
LAST-MODIFIED:20230609T072604Z
DESCRIPTION:Jetzt wird's sportlich! Am 24. Juni 2023 findet die vom Kreis
 sportbund Heinsberg e.V. sowie dem DRK-KAI Heinsberg (DRK Kreisverband H
 einsberg e.V.) organisierte Sportolympiade statt. In verschiedenen Diszi
 plinen können Erwachsene und Kinder die Sportdisziplinen \"Kraft\, Ausda
 uer\, Schnelligkeit und Koordination\" ausprobieren und ihre Fähigkeiten
  testen. Es findet am 24. Juni 2023\, von 11:00 – 17:00 Uhr in der Sport
 anlage „Im Klevchen“ statt. Wer möchte\, kann sogar das reguläre \"Deuts
 che Sportabzeichen\" absolvieren\, oder seine Teilnahme durch das \"Hein
 sberger Sportabzeichen\" bescheinigen lassen. Mit Kinderschminken sowie 
 vielen weiteren Kreativ- und Bewegungsangeboten ist es ein Fest für die 
 ganze Familie\, welches Spiel\, Sport und Spaß miteinander verbindet.
LOCATION:Sportanlage \"Im Klevchen\"
X-LOCATION-NAME:Sportanlage \"Im Klevchen\"
X-STREET-ADDRESS:Zugang über Rheinertstraße
X-POSTAL-CODE:52525
X-LOCALITY:Heinsberg
ORGANIZER;CN=Kreissportbund Heinsberg e.V. & DRK Kreisverband Heinsberg e
 .V.:mailto:s.bohnen@drk-heinsberg.de
X-ORGANIZER-NAME:Kreissportbund Heinsberg e.V. & DRK Kreisverband Heinsbe
 rg e.V.
X-ORGANIZER-EMAIL:s.bohnen@drk-heinsberg.de
ATTACH;FMTTYPE=image/jpeg:https://www.heinsberg.de/stadt-heinsberg/kalend
 er/veranstaltungen/2023/2023-06-24-sportolympiade/flyer-sportolympiade.j
 pg?cid=qfs.2sf1
UID:62a8c553-44cc-4c01-a43b-81edcbc74f12
X-PRICE:Keine Angabe
END:VEVENT
END:VCALENDAR
