BEGIN:VCALENDAR
PRODID:-//Ben Fortuna//iCal4j 1.0//EN
VERSION:2.0
CALSCALE:GREGORIAN
BEGIN:VTIMEZONE
TZID:Europe/Berlin
LAST-MODIFIED:20201010T011803Z
TZURL:http://tzurl.org/zoneinfo/Europe/Berlin
X-LIC-LOCATION:Europe/Berlin
X-PROLEPTIC-TZNAME:LMT
BEGIN:STANDARD
TZNAME:CET
TZOFFSETFROM:+005328
TZOFFSETTO:+0100
DTSTART:18930401T000000
END:STANDARD
BEGIN:DAYLIGHT
TZNAME:CEST
TZOFFSETFROM:+0100
TZOFFSETTO:+0200
DTSTART:19160430T230000
RDATE:19400401T020000
RDATE:19430329T020000
RDATE:19460414T020000
RDATE:19470406T030000
RDATE:19480418T020000
RDATE:19490410T020000
RDATE:19800406T020000
END:DAYLIGHT
BEGIN:STANDARD
TZNAME:CET
TZOFFSETFROM:+0200
TZOFFSETTO:+0100
DTSTART:19161001T010000
RDATE:19421102T030000
RDATE:19431004T030000
RDATE:19441002T030000
RDATE:19451118T030000
RDATE:19461007T030000
END:STANDARD
BEGIN:DAYLIGHT
TZNAME:CEST
TZOFFSETFROM:+0100
TZOFFSETTO:+0200
DTSTART:19170416T020000
RRULE:FREQ=YEARLY;UNTIL=19180415T010000Z;BYMONTH=4;BYDAY=3MO
END:DAYLIGHT
BEGIN:STANDARD
TZNAME:CET
TZOFFSETFROM:+0200
TZOFFSETTO:+0100
DTSTART:19170917T030000
RRULE:FREQ=YEARLY;UNTIL=19180916T010000Z;BYMONTH=9;BYDAY=3MO
END:STANDARD
BEGIN:DAYLIGHT
TZNAME:CEST
TZOFFSETFROM:+0100
TZOFFSETTO:+0200
DTSTART:19440403T020000
RRULE:FREQ=YEARLY;UNTIL=19450402T010000Z;BYMONTH=4;BYDAY=1MO
END:DAYLIGHT
BEGIN:DAYLIGHT
TZNAME:CEMT
TZOFFSETFROM:+0200
TZOFFSETTO:+0300
DTSTART:19450524T020000
RDATE:19470511T030000
END:DAYLIGHT
BEGIN:DAYLIGHT
TZNAME:CEST
TZOFFSETFROM:+0300
TZOFFSETTO:+0200
DTSTART:19450924T030000
RDATE:19470629T030000
END:DAYLIGHT
BEGIN:STANDARD
TZNAME:CET
TZOFFSETFROM:+0100
TZOFFSETTO:+0100
DTSTART:19460101T000000
RDATE:19800101T000000
END:STANDARD
BEGIN:STANDARD
TZNAME:CET
TZOFFSETFROM:+0200
TZOFFSETTO:+0100
DTSTART:19471005T030000
RRULE:FREQ=YEARLY;UNTIL=19491002T010000Z;BYMONTH=10;BYDAY=1SU
END:STANDARD
BEGIN:STANDARD
TZNAME:CET
TZOFFSETFROM:+0200
TZOFFSETTO:+0100
DTSTART:19800928T030000
RRULE:FREQ=YEARLY;UNTIL=19950924T010000Z;BYMONTH=9;BYDAY=-1SU
END:STANDARD
BEGIN:DAYLIGHT
TZNAME:CEST
TZOFFSETFROM:+0100
TZOFFSETTO:+0200
DTSTART:19810329T020000
RRULE:FREQ=YEARLY;BYMONTH=3;BYDAY=-1SU
END:DAYLIGHT
BEGIN:STANDARD
TZNAME:CET
TZOFFSETFROM:+0200
TZOFFSETTO:+0100
DTSTART:19961027T030000
RRULE:FREQ=YEARLY;BYMONTH=10;BYDAY=-1SU
END:STANDARD
END:VTIMEZONE
BEGIN:VEVENT
DTSTAMP:20260425T020451Z
DTSTART;TZID=Europe/Berlin:20220820T120000
DTEND;TZID=Europe/Berlin:20220820T200000
SUMMARY:Königsberger Straßenfest
CREATED:20220815T094005Z
LAST-MODIFIED:20220815T094420Z
DESCRIPTION:Das Königsberger Nachbarschaftsfest wurde initiiert\, um die 
 Gemeinschaft im Königsberger-Viertel zu stärken - und bei einem netten B
 eisammensein\, Anwohnern die Möglichkeit geben\, sich kennenzulernen und
  auszutauschen. Zum kinderfreundlichen Straßenfest erwarten Euch neben e
 iner Hüpfburg\, auch ein DJ sowie Getränke- und Foodwagen. Die Teilnahme
  ist kostenfrei. Selbstverständlich sind wir stets offen für Innovatione
 n und neue Partnerschaften. Aus Rücksicht zur eventuellen Pandemiewelle\
 , freuen wir uns über Teilnahmen getesteter Personen.
LOCATION:Am Spielplatz
X-LOCATION-NAME:Am Spielplatz
X-STREET-ADDRESS:Königsberger Str. 37
X-POSTAL-CODE:52525
X-LOCALITY:Heinsberg
ORGANIZER;CN=Dance Parade gGmbH:mailto:info@dance-parade.com
X-ORGANIZER-NAME:Dance Parade gGmbH
X-ORGANIZER-EMAIL:info@dance-parade.com
X-ORGANIZER-TELEPHONE:021190989090
X-ORGANIZER-FAXNUMBER:021190989098
X-ORGANIZER-WEBSITE:https://www.dance-parade.com
X-ORGANIZER-ADDRESS-POSTALCODE:41063
X-ORGANIZER-ADDRESS-LOCALITY:Mönchengladbach
X-ORGANIZER-ADDRESS-STREET:Bozener Str. 5
CONTACT:Johannes Boiok\,info@dance-parade.com\,021190989099
X-CONTACT-GIVEN-NAME:Johannes
X-CONTACT-FAMILY-NAME:Boiok
X-CONTACT-EMAIL:info@dance-parade.com
X-CONTACT-TELEPHONE:021190989099
URL:https://facebook.com/events/s/konigsberger-stra%C3%9Fenfest/544505404
 124629/
ATTACH:https://www.heinsberg.de/stadt-heinsberg/kalender/veranstaltungen/
 2022/2022-08-20-koenigsberger-strassenfest-1/db49f853-7424-4e90-8315-fc2
 c63c7293b.jpeg?cid=mgj.26ug
UID:d349760e-c3e3-4ebb-9f88-8a749f45eaf1
END:VEVENT
END:VCALENDAR
